BEGIN:VCALENDAR
VERSION:2.0
PRODID:-//Pediatrics//NONSGML Events//EN
CALSCALE:GREGORIAN
X-ORIGINAL-URL:https://pediatrics.wustl.edu/events/
X-WR-CALDESC:Pediatrics - Events
BEGIN:VEVENT
UID:20220621T2113Z-1655845988.3282-EO-48619-1@172.23.128.19
STATUS:CONFIRMED
DTSTAMP:20260420T085308Z
CREATED:20220826T200328Z
LAST-MODIFIED:20220826T200328Z
DTSTART;TZID=America/Chicago:20221013T160000
DTEND;TZID=America/Chicago:20221013T170000
SUMMARY: Community Discussions: WUSM’s Commitment to Anti-Racism Statement
DESCRIPTION: In early 2021\, the Executive Faculty of Washington University
  School of Medicine approved a “WUSM Leadership Commitment to Anti-Racism S
 tatement\,” naming racism as a public health crisis and committing to addre
 ss racism within our institution\, policies\, and educational frameworks. T
 he commitment includes a campus wide anti-racism curriculum aimed at buildi
 ng the capacity of our community […]
X-ALT-DESC;FMTTYPE=text/html: <p>In early 2021\, the Executive Faculty of W
 ashington University School of Medicine approved a “WUSM Leadership Commitm
 ent to Anti-Racism Statement\,” naming racism as a public health crisis and
  committing to address racism within our institution\, policies\, and educa
 tional frameworks.</p><p>The commitment includes a campus wide anti-racism 
 curriculum aimed at building the capacity of our community to do the work o
 f anti-racism as individuals and as an institution.</p><p>Our office is hos
 ting one hour community discussions for WUSM community members to learn mor
 e and talk about the statement\, what it means to them and how you can be i
 nvolved in this important transformation initiative. These community discus
 sions will be hosted on an ongoing basis\, and are also available by depart
 ment request.</p><p>Please register to attend: [formidable id="349"]</p><p>
 <strong>Individuals with disabilities are encouraged to attend all Washingt
 on University School of Medicine sponsored events.  If you are a person wit
 h a disability who requires a reasonable accommodation in order to particip
 ate in this event\, at least one week before the event\, please contact the
  Washington University School of Medicine Office of Diversity\, Equity and 
 Inclusion in advance at 314-362-0347 or </strong><a href="mailto:MedDEI@wus
 tl.edu"><strong>MedDEI@wustl.edu</strong></a><strong>.</strong></p>
CATEGORIES:Diversity\, Equity &amp\; Inclusion
LOCATION:Zoom (Virtual)
GEO:38.634745;-90.262682
ORGANIZER;CN="hbrian":MAILTO:hbrian@wustl.edu
URL;VALUE=URI:https://pediatrics.wustl.edu/events/event/community-discussio
 ns-wusms-commitment-to-anti-racism-statement-9/
END:VEVENT
BEGIN:VTIMEZONE
TZID:America/Chicago
BEGIN:DAYLIGHT
TZOFFSETFROM:-0600
TZOFFSETTO:-0500
DTSTART:20220313T080000
TZNAME:CDT
END:DAYLIGHT
END:VTIMEZONE
END:VCALENDAR
