BEGIN:VCALENDAR
VERSION:2.0
PRODID:-//Pediatrics//NONSGML Events//EN
CALSCALE:GREGORIAN
X-ORIGINAL-URL:https://pediatrics.wustl.edu/events/
X-WR-CALDESC:Pediatrics - Events
BEGIN:VEVENT
UID:20230125T1446Z-1674657962.7411-EO-5594-1@10.73.0.50
STATUS:CONFIRMED
DTSTAMP:20260416T042424Z
CREATED:20220901T151057Z
LAST-MODIFIED:20220901T151057Z
DTSTART;TZID=America/Chicago:20220902T120000
DTEND;TZID=America/Chicago:20220902T130000
RRULE:FREQ=WEEKLY;INTERVAL=1;BYDAY=FR;UNTIL=20221230T180000Z
SUMMARY: Nephrology Conference
DESCRIPTION: MPRB 4th Floor Conference Room or https://wustl-hipaa.zoom.us/
 j/96696674529?pwd=TTBDNkhnQnBlMVFPQTRZc0lZN0FiQT09
X-ALT-DESC;FMTTYPE=text/html: <p>MPRB 4th Floor Conference Room or <a href=
 "https://wustl-hipaa.zoom.us/j/96696674529?pwd=TTBDNkhnQnBlMVFPQTRZc0lZN0Fi
 QT09">https://wustl-hipaa.zoom.us/j/96696674529?pwd=TTBDNkhnQnBlMVFPQTRZc0l
 ZN0FiQT09</a></p>
CATEGORIES:Weekly Conference Schedule
LOCATION:MPRB 4th Floor Conference Room
GEO:41.875562;-87.624421
ORGANIZER;CN="hbrian":MAILTO:hbrian@wustl.edu
URL;VALUE=URI:https://pediatrics.wustl.edu/events/event/nephrology-conferen
 ce-2/
END:VEVENT
BEGIN:VTIMEZONE
TZID:America/Chicago
BEGIN:DAYLIGHT
TZOFFSETFROM:-0600
TZOFFSETTO:-0500
DTSTART:20220313T080000
TZNAME:CDT
END:DAYLIGHT
BEGIN:STANDARD
TZOFFSETFROM:-0500
TZOFFSETTO:-0600
DTSTART:20221106T070000
TZNAME:CST
END:STANDARD
END:VTIMEZONE
END:VCALENDAR
