BEGIN:VCALENDAR
VERSION:2.0
PRODID:-//Pediatrics//NONSGML Events//EN
CALSCALE:GREGORIAN
X-ORIGINAL-URL:https://pediatrics.wustl.edu/events/
X-WR-CALDESC:Pediatrics - Events
BEGIN:VEVENT
UID:20240613T1940Z-1718307638.704-EO-11352-1@10.73.2.0
STATUS:CONFIRMED
DTSTAMP:20260424T214949Z
CREATED:20240613T152318Z
LAST-MODIFIED:20240613T152318Z
DTSTART;TZID=America/Chicago:20240724T083000
DTEND;TZID=America/Chicago:20240724T100000
SUMMARY: Radical Candor Book Discussion: Session 2
DESCRIPTION: Learn more
X-ALT-DESC;FMTTYPE=text/html: <p><a href="https://faculty.med.wustl.edu/cal
 endar_event/radical-candor-book-discussion/" rel="noopener" target="_blank"
 >Learn more</a></p>
CATEGORIES:Office of Faculty Development
ORGANIZER;CN="hbrian":MAILTO:hbrian@wustl.edu
URL;VALUE=URI:https://pediatrics.wustl.edu/events/event/radical-candor-book
 -discussion-session-2/
END:VEVENT
BEGIN:VTIMEZONE
TZID:America/Chicago
BEGIN:DAYLIGHT
TZOFFSETFROM:-0600
TZOFFSETTO:-0500
DTSTART:20240310T080000
TZNAME:CDT
END:DAYLIGHT
END:VTIMEZONE
END:VCALENDAR
