BEGIN:VCALENDAR
VERSION:2.0
PRODID:-//Pediatrics//NONSGML Events//EN
CALSCALE:GREGORIAN
X-ORIGINAL-URL:https://pediatrics.wustl.edu/events/
X-WR-CALDESC:Pediatrics - Events
BEGIN:VEVENT
UID:20240613T1940Z-1718307640.928-EO-11353-1@10.73.2.0
STATUS:CONFIRMED
DTSTAMP:20260417T034720Z
CREATED:20240613T152521Z
LAST-MODIFIED:20240613T152521Z
DTSTART;TZID=America/Chicago:20240827T150000
DTEND;TZID=America/Chicago:20240827T163000
SUMMARY: Start With Why Book Discussion: Session 1
DESCRIPTION: Learn more
X-ALT-DESC;FMTTYPE=text/html: <p><a href="https://faculty.med.wustl.edu/cal
 endar_event/start-with-why-book-discussion/" rel="noopener" target="_blank"
 >Learn more</a></p>
CATEGORIES:Office of Faculty Development
ORGANIZER;CN="hbrian":MAILTO:hbrian@wustl.edu
URL;VALUE=URI:https://pediatrics.wustl.edu/events/event/start-with-why-book
 -discussion-session-1/
END:VEVENT
BEGIN:VTIMEZONE
TZID:America/Chicago
BEGIN:DAYLIGHT
TZOFFSETFROM:-0600
TZOFFSETTO:-0500
DTSTART:20240310T080000
TZNAME:CDT
END:DAYLIGHT
END:VTIMEZONE
END:VCALENDAR
