BEGIN:VCALENDAR
VERSION:2.0
PRODID:-//Pediatrics//NONSGML Events//EN
CALSCALE:GREGORIAN
X-ORIGINAL-URL:https://pediatrics.wustl.edu/events/
X-WR-CALDESC:Pediatrics - Events
BEGIN:VEVENT
UID:20230125T1446Z-1674657962.7043-EO-5585-1@10.73.0.50
STATUS:CONFIRMED
DTSTAMP:20260420T085323Z
CREATED:20220901T150246Z
LAST-MODIFIED:20220912T181557Z
DTSTART;TZID=America/Chicago:20220830T120000
DTEND;TZID=America/Chicago:20220830T124500
SUMMARY: Tuesday Case Conference*
DESCRIPTION: Dr. Leo Shmuylovich and Dr. Marie Traylor https://wustl-hipaa.
 zoom.us/j/97250368984 *CME Credit Offered In support of improving patient c
 are\, Washington University School of Medicine in St. Louis is jointly accr
 edited by the Accreditation Council for Continuing Medical Education (ACCME
 )\, the Accreditation Council for Pharmacy Education (ACPE)\, and the Ameri
 can Nurses Credentialing Center (ANCC)\, to provide continuing education […
 ]
X-ALT-DESC;FMTTYPE=text/html: <p>Dr. Leo Shmuylovich and Dr. Marie Traylor<
 br /><a href="https://wustl-hipaa.zoom.us/j/97250368984">https://wustl-hipa
 a.zoom.us/j/97250368984</a></p><p>*CME Credit Offered In support of improvi
 ng patient care\, Washington University School of Medicine in St. Louis is 
 jointly accredited by the Accreditation Council for Continuing Medical Educ
 ation (ACCME)\, the Accreditation Council for Pharmacy Education (ACPE)\, a
 nd the American Nurses Credentialing Center (ANCC)\, to provide continuing 
 education for the healthcare team. Washington University School of Medicine
  in St. Louis designates this live activity for a maximum of 1.00 AMA PRA C
 ategory 1 Credit(s) TM. Physicians should claim only the credit commensurat
 e with the extent of their participation in the activity. Washington Univer
 sity School of Medicine in St. Louis designates this live activity for a ma
 ximum of 1.00 credit(s) of attendance. If you need any assistance with clai
 ming credit for this session\, please contact Leigh Ann Bryant at leighannb
 ryant@wustl.edu</p>
CATEGORIES:Weekly Conference Schedule
LOCATION:Zoom
GEO:41.878114;-87.629798
ORGANIZER;CN="hbrian":MAILTO:hbrian@wustl.edu
URL;VALUE=URI:https://pediatrics.wustl.edu/events/event/tuesday-case-confer
 ence/
END:VEVENT
BEGIN:VTIMEZONE
TZID:America/Chicago
BEGIN:DAYLIGHT
TZOFFSETFROM:-0600
TZOFFSETTO:-0500
DTSTART:20220313T080000
TZNAME:CDT
END:DAYLIGHT
END:VTIMEZONE
END:VCALENDAR
