BEGIN:VCALENDAR
VERSION:2.0
PRODID:-//Pediatrics//NONSGML Events//EN
CALSCALE:GREGORIAN
X-ORIGINAL-URL:https://pediatrics.wustl.edu/events/
X-WR-CALDESC:Pediatrics - Events
BEGIN:VEVENT
UID:20211015T2336Z-1634340995.4521-EO-46483-1@172.23.128.19
STATUS:CONFIRMED
DTSTAMP:20260425T145809Z
CREATED:20220826T200318Z
LAST-MODIFIED:20220826T200318Z
DTSTART;TZID=America/Chicago:20220324T173000
DTEND;TZID=America/Chicago:20220324T183000
SUMMARY: WUSM 3.0 Diversity\, Equity & Inclusion Open Session – Virtual
DESCRIPTION: Diversity & Inclusion 3.0 – Commitment (This is a virtual trai
 ning) Commitment – The goal of this training is to provide language to addr
 ess discrimination without shaming others\, but rather fostering inclusion.
   We accomplish this goal through interactive media\, positive\, response t
 echniques\, and activities that encourage empathetic understanding through 
 exploring real life identities. How to […]
X-ALT-DESC;FMTTYPE=text/html: <p><strong>Diversity & Inclusion 3.0 - Commit
 ment (This is a virtual training)</strong></p><p>Commitment – The goal of t
 his training is to provide language to address discrimination without shami
 ng others\, but rather fostering inclusion.  We accomplish this goal throug
 h interactive media\, positive\, response techniques\, and activities that 
 encourage empathetic understanding through exploring real life identities.<
 /p><p><strong style="font-size: 1.125rem\;">How to Register: </strong><span
  style="font-size: 1.125rem\;"> Registration must be completed by logging i
 nto </span><a style="font-size: 1.125rem\;" href="https://wustl.sabacloud.c
 om/">https://wustl.sabacloud.com/</a><span style="font-size: 1.125rem\;"> a
 nd selecting HR - Diversity & Inclusion 3.0\, course number 00006222 and cl
 ass ID number 000057868.  The registration expiration for this training is 
 beginning of business day 03/03/2022.</span></p><p><strong>How to attend th
 e training: </strong> This is virtual training and conducted in Zoom.  Plea
 se ignore any links from SABA to join this training.  The Zoom link will be
  sent to registered learners before March 10\, 2022.</p><p><strong>What to 
 do after training is completed:  </strong>After the training has been compl
 eted and the completion update is made by the Office of Diversity\, Equity 
 & Inclusion\, learners receive a system generated Email from <em>Washington
  University Learn@Work.  </em>The Email contains a link to the evaluation. 
 Complete the evaluation as soon as you can to avoid action messages of “<em
 >in</em> <em>progress\, pending action or “incomplete”</em> in your Plan th
 at is not associated with the training\, but the evaluation.</p><p><strong>
 Where to go for help:</strong></p><ul><li>Login questions - contact 314-933
 -3333\, ITHelp@wustl.edu</li><li>Zoom questions - contact Andrew Bauer 314-
 935-4599\, abauer@wustl.edu</li><li>Training questions - contact Valerie Jo
 yner 314-852-2798\, valeriejoyner@wustl.edu</li></ul><p><strong>Individuals
  with disabilities are encouraged to attend all Washington University Schoo
 l of Medicine sponsored events.  If you are a person with a disability who 
 requires a reasonable accommodation in order to participate in this event\,
  at least one week before the event\, please contact the Washington Univers
 ity School of Medicine Office of Diversity\, Equity and Inclusion in advanc
 e at 314-273-2809 or </strong><a href="mailto:MedDEI@wustl.edu"><strong>Med
 DEI@wustl.edu</strong></a><strong>.</strong></p>
CATEGORIES:Diversity\, Equity &amp\; Inclusion
LOCATION:Zoom (Virtual)
GEO:38.634745;-90.262682
ORGANIZER;CN="hbrian":MAILTO:hbrian@wustl.edu
URL;VALUE=URI:https://pediatrics.wustl.edu/events/event/wusm-3-0-diversity-
 equity-inclusion-open-session-virtual-2/
END:VEVENT
BEGIN:VTIMEZONE
TZID:America/Chicago
BEGIN:DAYLIGHT
TZOFFSETFROM:-0600
TZOFFSETTO:-0500
DTSTART:20220313T080000
TZNAME:CDT
END:DAYLIGHT
END:VTIMEZONE
END:VCALENDAR
