BEGIN:VCALENDAR
VERSION:2.0
PRODID:-//Pediatrics//NONSGML Events//EN
CALSCALE:GREGORIAN
X-ORIGINAL-URL:https://pediatrics.wustl.edu/events/
X-WR-CALDESC:Pediatrics - Events
BEGIN:VEVENT
UID:20240613T1940Z-1718307645.4525-EO-11355-1@10.73.2.0
STATUS:CONFIRMED
DTSTAMP:20260424T214947Z
CREATED:20240613T152928Z
LAST-MODIFIED:20240613T152928Z
DTSTART;TZID=America/Chicago:20240917T080000
DTEND;TZID=America/Chicago:20240917T130000
SUMMARY: WUSM New Faculty Orientation 2024
DESCRIPTION: Learn more
X-ALT-DESC;FMTTYPE=text/html: <p><a href="https://faculty.med.wustl.edu/cal
 endar_event/new-faculty-orientation-2024/" rel="noopener" target="_blank">L
 earn more</a></p>
CATEGORIES:Office of Faculty Development
LOCATION:Eric P. Newman Education Center
GEO:38.636879;-90.262400
ORGANIZER;CN="hbrian":MAILTO:hbrian@wustl.edu
URL;VALUE=URI:https://pediatrics.wustl.edu/events/event/wusm-new-faculty-or
 ientation-2024/
END:VEVENT
BEGIN:VTIMEZONE
TZID:America/Chicago
BEGIN:DAYLIGHT
TZOFFSETFROM:-0600
TZOFFSETTO:-0500
DTSTART:20240310T080000
TZNAME:CDT
END:DAYLIGHT
END:VTIMEZONE
END:VCALENDAR
